BEGIN:VCALENDAR
VERSION:2.0
PRODID:SchoolNow
CALSCALE:GREGORIAN
BEGIN:VEVENT
UID:0d70b8ce-d1cd-11f0-b5c8-0affd905178f
DTSTAMP:20260309T195508Z
SUMMARY:PSSA Testing
URL;VALUE=URI:https://www.gatewayk12.org/up/calendar/8818206/pssa-testing
DTSTART;VALUE=DATE:20260430
DTEND;VALUE=DATE:20260501
END:VEVENT
END:VCALENDAR
